BEGIN:VCALENDAR
VERSION:2.0
PRODID:-//www.hopeworxinc.org//NONSGML kigkonsult.se iCalcreator 2.30.10//
CALSCALE:GREGORIAN
METHOD:PUBLISH
UID:464b64b0-be0f-4054-abf3-fdb40b1cf5cf
X-WR-CALDESC:Thank you for supporting Montgomery County CSP!  This year we 
 celebrate our 12th Annual Montgomery County\nCSP Conference & 47th Montgom
 ery County Mental Health Awards Reception with the theme 'Selfcare and Wel
 lness.'  \n\nWe will once again have a host of activities and crafts\, fol
 lowed by a buffet style lunch\, and wrap up the afternoon recognizing some
  of the key players in the Mental Health community during or awards ceremo
 ny.\n\nThe days agenda is as follows:\n\n9:00am-10:00am: Staff and Provide
 rs setup\n10:00am-11:00: Guests arrive\, Activities Start\, Continental Br
 eakfast Served\n11:00am-12:00pm: Activities Continue\n12:00pm-1:00pm: Lunc
 h is served – Buffet Style with servers\n1:00pm-2:00pm: Awards Ceremony\n2
 :00pm: Event Ends/Guests Leave\n2:00pm-3:00pm: Staff and Providers Cleanup
  their respective areas\n\nPlease consider sponsoring this annual event\, 
 which brings together the Mental Health community in Montgomery County for
  a lovely picnic\, activity sessions\, and the annual awards reception! Th
 ank you so much for your support.  This conference costs approximately $40
  per person and we are planning for 300 attendees. Your generosity enables
  us to share this celebration with everyone in the Montgomery County menta
 l health community\, regardless of their ability to pay.  It is a wonderfu
 l opportunity to celebrate and promote recovery and holistic health within
  the entire community.
X-WR-RELCALID:9d92fd9c113953f272ca2ffba04c355f
X-WR-TIMEZONE:America/New_York
BEGIN:VTIMEZONE
TZID:America/New_York
BEGIN:STANDARD
TZNAME:EST
DTSTART:20241103T020000
TZOFFSETFROM:-0400
TZOFFSETTO:-0500
RDATE:20251102T020000
RDATE:20261101T020000
END:STANDARD
BEGIN:DAYLIGHT
TZNAME:EDT
DTSTART:20250309T020000
TZOFFSETFROM:-0500
TZOFFSETTO:-0400
RDATE:20260308T020000
END:DAYLIGHT
END:VTIMEZONE
BEGIN:VEVENT
UID:896a536b-8ebc-4b18-b0f1-c56f6e0aa716
DTSTAMP:20260421T093106Z
DESCRIPTION:Thank you for supporting Montgomery County CSP!  This year we c
 elebrate our 12th Annual Montgomery County\nCSP Conference & 47th Montgome
 ry County Mental Health Awards Reception with the theme 'Selfcare and Well
 ness.'  \n\nWe will once again have a host of activities and crafts\, foll
 owed by a buffet style lunch\, and wrap up the afternoon recognizing some 
 of the key players in the Mental Health community during or awards ceremon
 y.\n\nThe days agenda is as follows:\n\n9:00am-10:00am: Staff and Provider
 s setup\n10:00am-11:00: Guests arrive\, Activities Start\, Continental Bre
 akfast Served\n11:00am-12:00pm: Activities Continue\n12:00pm-1:00pm: Lunch
  is served – Buffet Style with servers\n1:00pm-2:00pm: Awards Ceremony\n2:
 00pm: Event Ends/Guests Leave\n2:00pm-3:00pm: Staff and Providers Cleanup 
 their respective areas\n\nPlease consider sponsoring this annual event\, w
 hich brings together the Mental Health community in Montgomery County for 
 a lovely picnic\, activity sessions\, and the annual awards reception! Tha
 nk you so much for your support.  This conference costs approximately $40 
 per person and we are planning for 300 attendees. Your generosity enables 
 us to share this celebration with everyone in the Montgomery County mental
  health community\, regardless of their ability to pay.  It is a wonderful
  opportunity to celebrate and promote recovery and holistic health within 
 the entire community.
DTSTART;TZID=America/New_York:20250520T100000
DTEND;TZID=America/New_York:20250520T140000
LOCATION:1350 Pawlings Road\, Audubon\, PA 19403 US
SUMMARY:2025 CSP Conference
END:VEVENT
END:VCALENDAR
