BEGIN:VCALENDAR
VERSION:2.0
PRODID:-//www.hopeworxinc.org//NONSGML kigkonsult.se iCalcreator 2.30.10//
CALSCALE:GREGORIAN
METHOD:PUBLISH
UID:9668f773-3afd-460e-9f0a-600fcc843491
X-WR-CALDESC:
X-WR-RELCALID:49d2b9f076223147b754c0c22b945f59
X-WR-TIMEZONE:America/New_York
BEGIN:VTIMEZONE
TZID:America/New_York
BEGIN:STANDARD
TZNAME:EST
DTSTART:20261101T020000
TZOFFSETFROM:-0400
TZOFFSETTO:-0500
RDATE:20271107T020000
END:STANDARD
BEGIN:DAYLIGHT
TZNAME:EDT
DTSTART:20270314T020000
TZOFFSETFROM:-0500
TZOFFSETTO:-0400
RDATE:20280312T020000
END:DAYLIGHT
END:VTIMEZONE
BEGIN:VEVENT
UID:091cd086-2612-4d67-a8df-6cdce7f4ae83
DTSTAMP:20260419T130532Z
DESCRIPTION:
DTSTART;TZID=America/New_York:20270415T120000
DTEND;TZID=America/New_York:20270415T150000
LOCATION:
SUMMARY:Montgomery County CSP Meeting
END:VEVENT
END:VCALENDAR
