BEGIN:VCALENDAR
VERSION:2.0
PRODID:-//www.hopeworxinc.org//NONSGML kigkonsult.se iCalcreator 2.30.10//
CALSCALE:GREGORIAN
METHOD:PUBLISH
UID:db7d4099-fe1d-4baf-bde7-c6aed8167b91
X-WR-CALDESC:
X-WR-RELCALID:90c2c7a2bc4539aaf44f922f7e50be5d
X-WR-TIMEZONE:America/New_York
BEGIN:VTIMEZONE
TZID:America/New_York
BEGIN:STANDARD
TZNAME:EST
DTSTART:20261101T020000
TZOFFSETFROM:-0400
TZOFFSETTO:-0500
RDATE:20271107T020000
RDATE:20281105T020000
END:STANDARD
BEGIN:DAYLIGHT
TZNAME:EDT
DTSTART:20270314T020000
TZOFFSETFROM:-0500
TZOFFSETTO:-0400
RDATE:20280312T020000
END:DAYLIGHT
END:VTIMEZONE
BEGIN:VEVENT
UID:514b7fa4-05b5-40fc-8813-211a14888c48
DTSTAMP:20260419T143334Z
DESCRIPTION:
DTSTART;TZID=America/New_York:20270511T190000
DTEND;TZID=America/New_York:20270511T203000
LOCATION:https://us02web.zoom.us/meeting/register/tZUud-ygrjkoHd2dNwUmaI1wa
 kYHZjSHmxm7
SUMMARY:HopeWorx Family Group
END:VEVENT
END:VCALENDAR
