BEGIN:VCALENDAR
VERSION:2.0
PRODID:-//www.hopeworxinc.org//NONSGML kigkonsult.se iCalcreator 2.30.10//
CALSCALE:GREGORIAN
METHOD:PUBLISH
UID:8347fb03-9df8-4922-961f-e88d3ce6e0cf
X-WR-CALDESC:
X-WR-RELCALID:58b2aa4b948ca9d6c598f0057e17932c
X-WR-TIMEZONE:America/New_York
BEGIN:VTIMEZONE
TZID:America/New_York
BEGIN:STANDARD
TZNAME:EST
DTSTART:20261101T020000
TZOFFSETFROM:-0400
TZOFFSETTO:-0500
RDATE:20271107T020000
RDATE:20281105T020000
END:STANDARD
BEGIN:DAYLIGHT
TZNAME:EDT
DTSTART:20270314T020000
TZOFFSETFROM:-0500
TZOFFSETTO:-0400
RDATE:20280312T020000
END:DAYLIGHT
END:VTIMEZONE
BEGIN:VEVENT
UID:622b704f-0bb8-44b9-b9d4-9d22606443b5
DTSTAMP:20260421T110327Z
DESCRIPTION:
DTSTART;TZID=America/New_York:20270610T190000
DTEND;TZID=America/New_York:20270610T200000
LOCATION:https://us02web.zoom.us/meeting/register/tZckcOqorzkpHdMKz6O_r0XpV
 jyi9SAEkNCG
SUMMARY:Parent/Caregiver Virtual Support Group
END:VEVENT
END:VCALENDAR
