BEGIN:VCALENDAR
VERSION:2.0
PRODID:-//www.hopeworxinc.org//NONSGML kigkonsult.se iCalcreator 2.30.10//
CALSCALE:GREGORIAN
METHOD:PUBLISH
UID:c594cdfd-7997-41d7-b72b-ccde8da63cf7
X-WR-CALDESC:
X-WR-RELCALID:1840c1f4d437a62f7a160cf2a8fcfbd5
X-WR-TIMEZONE:America/New_York
BEGIN:VTIMEZONE
TZID:America/New_York
BEGIN:STANDARD
TZNAME:EST
DTSTART:20261101T020000
TZOFFSETFROM:-0400
TZOFFSETTO:-0500
RDATE:20271107T020000
RDATE:20281105T020000
END:STANDARD
BEGIN:DAYLIGHT
TZNAME:EDT
DTSTART:20270314T020000
TZOFFSETFROM:-0500
TZOFFSETTO:-0400
RDATE:20280312T020000
END:DAYLIGHT
END:VTIMEZONE
BEGIN:VEVENT
UID:95cf5555-3dee-4e2a-b3d3-18fa855f02f8
DTSTAMP:20260421T123143Z
DESCRIPTION:
DTSTART;TZID=America/New_York:20270715T120000
DTEND;TZID=America/New_York:20270715T150000
LOCATION:
SUMMARY:Montgomery County CSP Meeting
END:VEVENT
END:VCALENDAR
