BEGIN:VCALENDAR
VERSION:2.0
PRODID:-//www.hopeworxinc.org//NONSGML kigkonsult.se iCalcreator 2.30.10//
CALSCALE:GREGORIAN
METHOD:PUBLISH
UID:c1a28d70-e4ee-4794-b5aa-f3b67fd790b6
X-WR-CALDESC:
X-WR-RELCALID:f4e4d03ff5410ca36aae0aa0ce465fe8
X-WR-TIMEZONE:America/New_York
BEGIN:VTIMEZONE
TZID:America/New_York
BEGIN:STANDARD
TZNAME:EST
DTSTART:20261101T020000
TZOFFSETFROM:-0400
TZOFFSETTO:-0500
RDATE:20271107T020000
RDATE:20281105T020000
END:STANDARD
BEGIN:DAYLIGHT
TZNAME:EDT
DTSTART:20270314T020000
TZOFFSETFROM:-0500
TZOFFSETTO:-0400
RDATE:20280312T020000
RDATE:20290311T020000
END:DAYLIGHT
END:VTIMEZONE
BEGIN:VEVENT
UID:162ec91b-0a25-4f90-be13-8ee4335fd47d
DTSTAMP:20260421T173321Z
DESCRIPTION:
DTSTART;TZID=America/New_York:20271028T190000
DTEND;TZID=America/New_York:20271028T200000
LOCATION:https://us02web.zoom.us/meeting/register/tZckcOqorzkpHdMKz6O_r0XpV
 jyi9SAEkNCG
SUMMARY:Parent/Caregiver Virtual Support Group
END:VEVENT
END:VCALENDAR
