BEGIN:VCALENDAR
VERSION:2.0
PRODID:-//www.hopeworxinc.org//NONSGML kigkonsult.se iCalcreator 2.30.10//
CALSCALE:GREGORIAN
METHOD:PUBLISH
UID:1eea35a8-e3ee-4a4d-b363-4e5f4b9b57f1
X-WR-CALDESC:
X-WR-RELCALID:6fa3de39b3e5e215897a4edb9c5a030a
X-WR-TIMEZONE:America/New_York
BEGIN:VTIMEZONE
TZID:America/New_York
BEGIN:STANDARD
TZNAME:EST
DTSTART:20271107T020000
TZOFFSETFROM:-0400
TZOFFSETTO:-0500
RDATE:20281105T020000
END:STANDARD
BEGIN:DAYLIGHT
TZNAME:EDT
DTSTART:20270314T020000
TZOFFSETFROM:-0500
TZOFFSETTO:-0400
RDATE:20280312T020000
RDATE:20290311T020000
END:DAYLIGHT
END:VTIMEZONE
BEGIN:VEVENT
UID:2b035e75-39c7-4775-aebe-523647191adf
DTSTAMP:20260421T235037Z
DESCRIPTION:
DTSTART;TZID=America/New_York:20280210T190000
DTEND;TZID=America/New_York:20280210T200000
LOCATION:https://us02web.zoom.us/meeting/register/tZckcOqorzkpHdMKz6O_r0XpV
 jyi9SAEkNCG
SUMMARY:Parent/Caregiver Virtual Support Group
END:VEVENT
END:VCALENDAR
