BEGIN:VCALENDAR
VERSION:2.0
PRODID:-//www.hopeworxinc.org//NONSGML kigkonsult.se iCalcreator 2.30.10//
CALSCALE:GREGORIAN
METHOD:PUBLISH
UID:f9762358-6b1b-45b8-b02b-4525fc017a5c
X-WR-CALDESC:
X-WR-RELCALID:57480bb35b271eef9da6ef176e75ae90
X-WR-TIMEZONE:America/New_York
BEGIN:VTIMEZONE
TZID:America/New_York
BEGIN:STANDARD
TZNAME:EST
DTSTART:20271107T020000
TZOFFSETFROM:-0400
TZOFFSETTO:-0500
RDATE:20281105T020000
END:STANDARD
BEGIN:DAYLIGHT
TZNAME:EDT
DTSTART:20270314T020000
TZOFFSETFROM:-0500
TZOFFSETTO:-0400
RDATE:20280312T020000
RDATE:20290311T020000
END:DAYLIGHT
END:VTIMEZONE
BEGIN:VEVENT
UID:6c26d638-f002-43e6-82ae-d103b4590964
DTSTAMP:20260421T235724Z
DESCRIPTION:
DTSTART;TZID=America/New_York:20280222T190000
DTEND;TZID=America/New_York:20280222T203000
LOCATION:https://us02web.zoom.us/meeting/register/tZUud-ygrjkoHd2dNwUmaI1wa
 kYHZjSHmxm7
SUMMARY:HopeWorx Family Group
END:VEVENT
END:VCALENDAR
