BEGIN:VCALENDAR
VERSION:2.0
PRODID:-//www.hopeworxinc.org//NONSGML kigkonsult.se iCalcreator 2.30.10//
CALSCALE:GREGORIAN
METHOD:PUBLISH
UID:39f4e8ef-75a7-441d-b487-4057e03aa3cb
X-WR-CALDESC:
X-WR-RELCALID:db3e70c886ea421a9f0add4659406000
X-WR-TIMEZONE:America/New_York
BEGIN:VTIMEZONE
TZID:America/New_York
BEGIN:STANDARD
TZNAME:EST
DTSTART:20271107T020000
TZOFFSETFROM:-0400
TZOFFSETTO:-0500
RDATE:20281105T020000
END:STANDARD
BEGIN:DAYLIGHT
TZNAME:EDT
DTSTART:20280312T020000
TZOFFSETFROM:-0500
TZOFFSETTO:-0400
RDATE:20290311T020000
END:DAYLIGHT
END:VTIMEZONE
BEGIN:VEVENT
UID:19db4192-b218-41b7-ae6c-0c96822de5c7
DTSTAMP:20260422T013141Z
DESCRIPTION:
DTSTART;TZID=America/New_York:20280328T190000
DTEND;TZID=America/New_York:20280328T203000
LOCATION:https://us02web.zoom.us/meeting/register/tZUud-ygrjkoHd2dNwUmaI1wa
 kYHZjSHmxm7
SUMMARY:HopeWorx Family Group
END:VEVENT
END:VCALENDAR
