BEGIN:VCALENDAR
VERSION:2.0
PRODID:-//www.hopeworxinc.org//NONSGML kigkonsult.se iCalcreator 2.30.10//
CALSCALE:GREGORIAN
METHOD:PUBLISH
UID:6c81212d-2ee5-4abc-bf86-5f11ee72e350
X-WR-CALDESC:
X-WR-RELCALID:e04f146bdec7893fd7ae7cea86360d92
X-WR-TIMEZONE:America/New_York
BEGIN:VTIMEZONE
TZID:America/New_York
BEGIN:STANDARD
TZNAME:EST
DTSTART:20271107T020000
TZOFFSETFROM:-0400
TZOFFSETTO:-0500
RDATE:20281105T020000
END:STANDARD
BEGIN:DAYLIGHT
TZNAME:EDT
DTSTART:20280312T020000
TZOFFSETFROM:-0500
TZOFFSETTO:-0400
RDATE:20290311T020000
END:DAYLIGHT
END:VTIMEZONE
BEGIN:VEVENT
UID:44587fcb-9eae-4d83-89e5-b871eb94e166
DTSTAMP:20260422T030310Z
DESCRIPTION:
DTSTART;TZID=America/New_York:20280420T120000
DTEND;TZID=America/New_York:20280420T150000
LOCATION:
SUMMARY:Montgomery County CSP Meeting
END:VEVENT
END:VCALENDAR
