BEGIN:VCALENDAR
VERSION:2.0
PRODID:-//www.hopeworxinc.org//NONSGML kigkonsult.se iCalcreator 2.30.10//
CALSCALE:GREGORIAN
METHOD:PUBLISH
UID:524b7f50-0f74-4589-ad31-6ef9a06db348
X-WR-CALDESC:
X-WR-RELCALID:900fe799897c7ba6b754bf836ccb35b9
X-WR-TIMEZONE:America/New_York
BEGIN:VTIMEZONE
TZID:America/New_York
BEGIN:STANDARD
TZNAME:EST
DTSTART:20271107T020000
TZOFFSETFROM:-0400
TZOFFSETTO:-0500
RDATE:20281105T020000
RDATE:20291104T020000
END:STANDARD
BEGIN:DAYLIGHT
TZNAME:EDT
DTSTART:20280312T020000
TZOFFSETFROM:-0500
TZOFFSETTO:-0400
RDATE:20290311T020000
END:DAYLIGHT
END:VTIMEZONE
BEGIN:VEVENT
UID:9d34e510-ba44-4755-a36b-8837b1237265
DTSTAMP:20260424T083907Z
DESCRIPTION:
DTSTART;TZID=America/New_York:20280807T140000
DTEND;TZID=America/New_York:20280807T160000
LOCATION:
SUMMARY:SE Regional CSP Committee Meeting
END:VEVENT
END:VCALENDAR
