BEGIN:VCALENDAR
VERSION:2.0
PRODID:-//www.hopeworxinc.org//NONSGML kigkonsult.se iCalcreator 2.30.10//
CALSCALE:GREGORIAN
METHOD:PUBLISH
UID:7a837433-772f-46c6-8a17-128fc831b2fe
X-WR-CALDESC:
X-WR-RELCALID:96625bb3241d3d7e5f076c8780561431
X-WR-TIMEZONE:America/New_York
BEGIN:VTIMEZONE
TZID:America/New_York
BEGIN:STANDARD
TZNAME:EST
DTSTART:20271107T020000
TZOFFSETFROM:-0400
TZOFFSETTO:-0500
RDATE:20281105T020000
RDATE:20291104T020000
END:STANDARD
BEGIN:DAYLIGHT
TZNAME:EDT
DTSTART:20280312T020000
TZOFFSETFROM:-0500
TZOFFSETTO:-0400
RDATE:20290311T020000
END:DAYLIGHT
END:VTIMEZONE
BEGIN:VEVENT
UID:da1d789c-baf2-4a68-8392-41492f1b9881
DTSTAMP:20260424T082917Z
DESCRIPTION:
DTSTART;TZID=America/New_York:20280822T190000
DTEND;TZID=America/New_York:20280822T203000
LOCATION:https://us02web.zoom.us/meeting/register/tZUud-ygrjkoHd2dNwUmaI1wa
 kYHZjSHmxm7
SUMMARY:HopeWorx Family Group
END:VEVENT
END:VCALENDAR
