BEGIN:VCALENDAR
VERSION:2.0
PRODID:-//www.hopeworxinc.org//NONSGML kigkonsult.se iCalcreator 2.30.10//
CALSCALE:GREGORIAN
METHOD:PUBLISH
UID:8103168a-7dbc-45f9-aec8-c102b20a518b
X-WR-CALDESC:
X-WR-RELCALID:b4058a388582d695287c75a7c72be233
X-WR-TIMEZONE:America/New_York
BEGIN:VTIMEZONE
TZID:America/New_York
BEGIN:STANDARD
TZNAME:EST
DTSTART:20271107T020000
TZOFFSETFROM:-0400
TZOFFSETTO:-0500
RDATE:20281105T020000
RDATE:20291104T020000
END:STANDARD
BEGIN:DAYLIGHT
TZNAME:EDT
DTSTART:20280312T020000
TZOFFSETFROM:-0500
TZOFFSETTO:-0400
RDATE:20290311T020000
RDATE:20300310T020000
END:DAYLIGHT
END:VTIMEZONE
BEGIN:VEVENT
UID:ff2ae82f-1a77-4a8e-a460-789e03e94612
DTSTAMP:20260424T115000Z
DESCRIPTION:
DTSTART;TZID=America/New_York:20281012T190000
DTEND;TZID=America/New_York:20281012T200000
LOCATION:https://us02web.zoom.us/meeting/register/tZckcOqorzkpHdMKz6O_r0XpV
 jyi9SAEkNCG
SUMMARY:Parent/Caregiver Virtual Support Group
END:VEVENT
END:VCALENDAR
