BEGIN:VCALENDAR
VERSION:2.0
PRODID:-//www.hopeworxinc.org//NONSGML kigkonsult.se iCalcreator 2.30.10//
CALSCALE:GREGORIAN
METHOD:PUBLISH
UID:8a5567ef-0627-46e1-88b9-a4f022b8622c
X-WR-CALDESC:
X-WR-RELCALID:60e3fa889512eadb859f89ffddca86dd
X-WR-TIMEZONE:America/New_York
BEGIN:VTIMEZONE
TZID:America/New_York
BEGIN:STANDARD
TZNAME:EST
DTSTART:20281105T020000
TZOFFSETFROM:-0400
TZOFFSETTO:-0500
RDATE:20291104T020000
END:STANDARD
BEGIN:DAYLIGHT
TZNAME:EDT
DTSTART:20280312T020000
TZOFFSETFROM:-0500
TZOFFSETTO:-0400
RDATE:20290311T020000
RDATE:20300310T020000
END:DAYLIGHT
END:VTIMEZONE
BEGIN:VEVENT
UID:6a49a296-2b3d-46a8-bb7c-1045a5c00ffd
DTSTAMP:20260424T131017Z
DESCRIPTION:
DTSTART;TZID=America/New_York:20281109T190000
DTEND;TZID=America/New_York:20281109T200000
LOCATION:https://us02web.zoom.us/meeting/register/tZckcOqorzkpHdMKz6O_r0XpV
 jyi9SAEkNCG
SUMMARY:Parent/Caregiver Virtual Support Group
END:VEVENT
END:VCALENDAR
